Workbook

Sheet 000000

Sheet 2025_KBC杯申込書
A1: KBC学園協賛 第5回沖縄県ラグビーフェスティバル（小学生の部 タグラグビー） 申込書
A2: フリガナ | F2: カテゴリー | H2: 参加の種類
A3: チーム名 | F3: 小学生高学年 | H3: 男女混合
A4: フリガナ | D4: 携帯電話番号
A5: 監 督 （連絡担当者）
D6: 携帯メールアドレス
A7: 番号 | C7: 選手名 | D7: 学年 | E7: 性別 | F7: 生年月日 | I7: スポーツ保険 加入確認 | K7: 番号 | N7: 学年 | O7: 性別 | P7: カテゴリー | Q7: 参加の種類
A8: ① | K8: 1 | L8: ① | N8: 幼稚園 | O8: 男子 | P8: 小学生低学年 | Q8: 男女混合
A9: 2 | K9: 2 | L9: ② | N9: 小1 | O9: 女子 | P9: 小学生中学年 | Q9: 男子のみ
A10: 3 | K10: 3 | L10: ③ | N10: 小2 | P10: 小学生高学年 | Q10: 女子のみ
A11: 4 | K11: 4 | L11: ④ | N11: 小3
A12: 5 | K12: 5 | L12: ⑤ | N12: 小4
A13: 6 | K13: 6 | L13: ⑥ | N13: 小5
A14: 7 | K14: 7 | L14: ⑦ | N14: 小6
A15: 8 | K15: 8 | L15: ⑧
A16: 9 | K16: 9 | L16: ⑨
A17: 10 | K17: 10 | L17: ⑩
A18: 11 | K18: 11 | L18: ⑪
A19: 12 | K19: 12 | L19: ⑫
A20: 上記のものは本チーム選手として適格であるので、大会要項を了承の上申し込みます。
B21: 令和7年 | C21: 11月 19日（水）※締切日厳守
B23: チーム名
B24: 〒
B25: 所在地
B26: Tel | D26: Fax
B28: 代表者 | F28: 印
B30: ※1 締切日までにeメールでの提出をお願いします。（大会プログラム作成用としても使用するため）
B31: 提出先：大会事務局（仲間） orfu.tag.mini@gmail.com
B32: ※2 原本（押印済のもの）は、当日持参して下さい。 未提出チームは参加できません。
B33: ※3 キャプテンは番号を○で囲んでください。（ﾌﾟﾙﾀﾞｳﾝﾒﾆｭｰで選択可）
B37: ※入力されたデータは、大会プログラム用シートに自動的に反映されます。
B39: ※大会プログラム用シートには個人情報にあたるデータは反映されません。
B41: ※保険加入用の申込用紙を兼ねています。生年月日、その他正確に書いて下さい。

Sheet 大会プログラム用（個人情報削除済み）
A1: ='2025_KBC杯申込書'!A1:I1 -> KBC学園協賛 第5回沖縄県ラグビーフェスティバル（小学生の部 タグラグビー） 申込書
A2: フリガナ | C2: ='2025_KBC杯申込書'!C2:E2 -> 0 | F2: カテゴリー | H2: 参加の種類
A3: チーム名 | C3: ='2025_KBC杯申込書'!C3:E3 -> 0 | F3: ='2025_KBC杯申込書'!F3:G3 -> 小学生高学年 | H3: ='2025_KBC杯申込書'!H3:I3 -> 男女混合
A4: フリガナ | C4: ='2025_KBC杯申込書'!C4 -> 0 | D4: 携帯電話番号 | F4: *******
A5: 監 督 （連絡担当者） | C5: ='2025_KBC杯申込書'!C5:C6 -> 0
D6: 携帯メールアドレス | F6: *******
A7: 番号 | C7: 選手名 | D7: 学年 | E7: 性別 | F7: 生年月日 | K7: 番号 | N7: 学年 | O7: 性別 | P7: 参加の種類 | Q7: カテゴリー | R7: 保険加入確認
A8: ='2025_KBC杯申込書'!A8:B8 -> ① | C8: ='2025_KBC杯申込書'!C8 -> 0 | D8: ='2025_KBC杯申込書'!D8 -> 0 | E8: ='2025_KBC杯申込書'!E8 -> 0 | F8: ****** | K8: 1 | L8: ① | N8: 小1 | O8: 男子 | P8: タグラグビー | Q8: 小学生低学年 | R8: 加入済み
A9: ='2025_KBC杯申込書'!A9:B9 -> 2 | C9: ='2025_KBC杯申込書'!C9 -> 0 | D9: ='2025_KBC杯申込書'!D9 -> 0 | E9: ='2025_KBC杯申込書'!E9 -> 0 | F9: ****** | K9: 2 | L9: ② | N9: 小2 | O9: 女子 | P9: ミニラグビー | Q9: 小学生中学年 | R9: 未加入（参加できません）
A10: ='2025_KBC杯申込書'!A10:B10 -> 3 | C10: ='2025_KBC杯申込書'!C10 -> 0 | D10: ='2025_KBC杯申込書'!D10 -> 0 | E10: ='2025_KBC杯申込書'!E10 -> 0 | F10: ****** | K10: 3 | L10: ③ | N10: 小3 | P10: タグ・ミニ両方 | Q10: 小学生高学年
A11: ='2025_KBC杯申込書'!A11:B11 -> 4 | C11: ='2025_KBC杯申込書'!C11 -> 0 | D11: ='2025_KBC杯申込書'!D11 -> 0 | E11: ='2025_KBC杯申込書'!E11 -> 0 | F11: ****** | K11: 4 | L11: ④ | N11: 小4
A12: ='2025_KBC杯申込書'!A12:B12 -> 5 | C12: ='2025_KBC杯申込書'!C12 -> 0 | D12: ='2025_KBC杯申込書'!D12 -> 0 | E12: ='2025_KBC杯申込書'!E12 -> 0 | F12: ****** | K12: 5 | L12: ⑤ | N12: 小5
A13: ='2025_KBC杯申込書'!A13:B13 -> 6 | C13: ='2025_KBC杯申込書'!C13 -> 0 | D13: ='2025_KBC杯申込書'!D13 -> 0 | E13: ='2025_KBC杯申込書'!E13 -> 0 | F13: ****** | K13: 6 | L13: ⑥ | N13: 小6
A14: ='2025_KBC杯申込書'!A14:B14 -> 7 | C14: ='2025_KBC杯申込書'!C14 -> 0 | D14: ='2025_KBC杯申込書'!D14 -> 0 | E14: ='2025_KBC杯申込書'!E14 -> 0 | F14: ****** | K14: 7 | L14: ⑦
A15: ='2025_KBC杯申込書'!A15:B15 -> 8 | C15: ='2025_KBC杯申込書'!C15 -> 0 | D15: ='2025_KBC杯申込書'!D15 -> 0 | E15: ='2025_KBC杯申込書'!E15 -> 0 | F15: ****** | K15: 8 | L15: ⑧
A16: ='2025_KBC杯申込書'!A16:B16 -> 9 | C16: ='2025_KBC杯申込書'!C16 -> 0 | D16: ='2025_KBC杯申込書'!D16 -> 0 | E16: ='2025_KBC杯申込書'!E16 -> 0 | F16: ****** | K16: 9 | L16: ⑨
A17: ='2025_KBC杯申込書'!A17:B17 -> 10 | C17: ='2025_KBC杯申込書'!C17 -> 0 | D17: ='2025_KBC杯申込書'!D17 -> 0 | E17: ='2025_KBC杯申込書'!E17 -> 0 | F17: ****** | K17: 10 | L17: ⑩
A18: ='2025_KBC杯申込書'!A18:B18 -> 11 | C18: ='2025_KBC杯申込書'!C18 -> 0 | D18: ='2025_KBC杯申込書'!D18 -> 0 | E18: ='2025_KBC杯申込書'!E18 -> 0 | F18: ****** | K18: 11 | L18: ⑪
A19: ='2025_KBC杯申込書'!A19:B19 -> 12 | C19: ='2025_KBC杯申込書'!C19 -> 0 | D19: ='2025_KBC杯申込書'!D19 -> 0 | E19: ='2025_KBC杯申込書'!E19 -> 0 | F19: ****** | K19: 12 | L19: ⑫
A20: 上記のものは本チーム選手として適格であるので、大会要項を了承の上申し込みます。
B21: ='2025_KBC杯申込書'!B21 -> 令和7年 | C21: ='2025_KBC杯申込書'!C21 -> 11月 19日（水）※締切日厳守
B23: チーム名 | C23: ='2025_KBC杯申込書'!C23:H23 -> 0
B24: 〒 | C24: *******
B25: 所在地 | C25: *******
B26: Tel | C26: ******* | D26: Fax | E26: *******
B28: 代表者 | C28: ='2025_KBC杯申込書'!C28:E28 -> 0 | F28: 印
B30: ※1 締切日までにeメールでの提出をお願いします。（大会プログラム作成用としても使用するため）
B31: 提出先：大会事務局（仲間） orfu.tag.mini@gmail.com
B32: ※2 原本（押印済のもの）は、当日持参して下さい。 未提出チームは参加できません。
B33: ※3 キャプテンは番号を○で囲んでください。（ﾌﾟﾙﾀﾞｳﾝﾒﾆｭｰで選択可）
B37: ※このシートには「申込書」の内容が反映されます。直接入力はできません。
