Workbook

Sheet SMBCカップ参加申込書（沖縄ブロック大会）
A1: SMBCカップ 第22回全国小学生タグラグビー選手権大会
A3: 沖縄県予選大会 参加申込書
A5: ＜コピー可＞
A6: 受付No | C6: 沖縄 | H6: ブロック大会 | J6: （ふりがな）
J7: チーム名
A10: 参加カテゴリー ドロップダウンリストから選択して下さい。
A12: （ふりがな） | K12: （ふりがな）
A13: 帯同コーチ１ | C13: ファイルをダウンロードしてお使い下さい。 http://www.okinawa-rugby.jp/ | K13: 帯同コーチ２
A15: 携帯番号 | C15: 緊急の連絡が可能な番号をお願い致します。 | K15: 携帯番号
A16: PC e-mail | C16: 添付ファイル受取り可能なアドレスでお願い致します。 | K16: PC e-mail
A17: 必要資料 送付先住所 | C17: 〒 | F17: －
A20: チーム帯同レフリー ※各チーム1名レフリーをして頂きます。 | J20: 氏 名
B22: （ふりがな） | H22: （ふりがな） | L22: 学年 | M22: 性別 | N22: 生年月日
B23: 氏名 | H23: 小学校名
A24: 1 | N24: （西暦） | P24: 年 | R24: 月 | T24: 日
A27: 2 | N27: （西暦） | P27: 年 | R27: 月 | T27: 日
A30: 3 | N30: （西暦） | P30: 年 | R30: 月 | T30: 日
A33: 4 | N33: （西暦） | P33: 年 | R33: 月 | T33: 日
A36: 5 | N36: （西暦） | P36: 年 | R36: 月 | T36: 日
A39: 6 | N39: （西暦） | P39: 年 | R39: 月 | T39: 日
A42: 7 | N42: （西暦） | P42: 年 | R42: 月 | T42: 日
A45: 8 | N45: （西暦） | P45: 年 | R45: 月 | T45: 日
A48: 9 | N48: （西暦） | P48: 年 | R48: 月 | T48: 日
A51: 10 | N51: （西暦） | P51: 年 | R51: 月 | T51: 日
A55: 大会参加にあたりチーム責任者（帯同コーチのうちどちらか１人）として、大会規則を遵守し責任を持つことを誓います。
A57: 2025 | C57: 年 | D57: 11 | E57: 月 | F57: 27 | G57: 日 | H57: 〆切 | I57: チーム責任者 | Q57: 印
A58: ※ 押印した申込用紙は，「大会当日受付時」に提出を確実にお願い致します。
A59: 住所： | C59: 〒 | F59: －
A61: 電話番号：
A63: １．参加者は日本の学制による小学校４年生～６年生で人数は７人～１０人、男女及び学年の構成は問いません。
A64: ※参加最少人数は７名です。
A65: ２．お申し込みに際し、参加登録費（保険料を含む）が必要となります。
A66: ３．成人２名が帯同コーチとして引率し、必ず登録選手全員の保護者から参加の承諾を得てください。また、帯同コーチ２名の
A67: うち１名は大会参加における責任者として大会要項および大会規則等の遵守を誓約し、氏名を記入のうえ捺印してください。
A68: ４．大会出場選手の肖像権ならびにそれに付随するすべての権限は主催者にあるものとします。
A69: ※公式ウェッブサイト内の掲出や、次年度の大会ポスター・プログラム等に使用される可能性があります。
A70: ５．チーム名は最大で２０文字となります。小学校名、地域名などは略称表記でも構いません。
A71: 《 ご記入いただいた個人情報は今大会運営目的以外には使用しません。使用後は適切に廃棄させて頂きます。 》

Sheet パンフレット用シート（記入不要）
A1: ='SMBCカップ参加申込書（沖縄ブロック大会）'!$A$1 -> SMBCカップ 第22回全国小学生タグラグビー選手権大会
A3: ='SMBCカップ参加申込書（沖縄ブロック大会）'!$A$3 -> 沖縄県予選大会 参加申込書
A5: ＜コピー可＞
A6: 受付No | C6: ='SMBCカップ参加申込書（沖縄ブロック大会）'!$C$6 -> 沖縄 | H6: ブロック大会 | J6: （ふりがな） | L6: ='SMBCカップ参加申込書（沖縄ブロック大会）'!$L$6 -> 0
J7: チーム名 | L7: ='SMBCカップ参加申込書（沖縄ブロック大会）'!$L$7 -> 0
A10: 参加カテゴリー ドロップダウンリストから選択して下さい。 | H10: ='SMBCカップ参加申込書（沖縄ブロック大会）'!$H$10 -> 0
A12: （ふりがな） | C12: ='SMBCカップ参加申込書（沖縄ブロック大会）'!$C$12 -> 0 | K12: （ふりがな） | M12: ='SMBCカップ参加申込書（沖縄ブロック大会）'!$M$12 -> 0
A13: 帯同コーチ１ | C13: ='SMBCカップ参加申込書（沖縄ブロック大会）'!$C$13 -> ファイルをダウンロードしてお使い下さい。 http://www.okinawa-rugby.jp/ | K13: 帯同コーチ２ | M13: ='SMBCカップ参加申込書（沖縄ブロック大会）'!$M$13 -> 0
A15: 携帯番号 | C15: ***-****-**** | K15: 携帯番号 | M15: ***-****-****
A16: PC e-mail | C16: *******@*****.*****.** | K16: PC e-mail | M16: *******@*****.*****.**
A17: 必要資料 送付先住所 | C17: 〒 | D17: *** | F17: － | G17: **** | K17: *************
C18: ***************
A20: チーム帯同レフリー ※各チーム1名レフリーをして頂きます。 | J20: 氏 名 | L20: ='SMBCカップ参加申込書（沖縄ブロック大会）'!$L$20 -> 0
B22: （ふりがな） | H22: （ふりがな） | L22: 学年 | M22: 性別 | N22: 生年月日
B23: 氏名 | H23: 小学校名
A24: 1 | B24: ='SMBCカップ参加申込書（沖縄ブロック大会）'!$B$24 -> 0 | H24: ='SMBCカップ参加申込書（沖縄ブロック大会）'!$H$24 -> 0 | L24: ='SMBCカップ参加申込書（沖縄ブロック大会）'!$L$24 -> 0 | M24: ='SMBCカップ参加申込書（沖縄ブロック大会）'!$M$24 -> 0 | N24: （西暦） | O24: **** | P24: 年 | Q24: ** | R24: 月 | S24: ** | T24: 日
B25: ='SMBCカップ参加申込書（沖縄ブロック大会）'!$B$25 -> 0 | H25: ='SMBCカップ参加申込書（沖縄ブロック大会）'!$H$25 -> 0
A27: 2 | B27: ='SMBCカップ参加申込書（沖縄ブロック大会）'!$B$27 -> 0 | H27: ='SMBCカップ参加申込書（沖縄ブロック大会）'!$H$27 -> 0 | L27: ='SMBCカップ参加申込書（沖縄ブロック大会）'!$L$27 -> 0 | M27: ='SMBCカップ参加申込書（沖縄ブロック大会）'!$M$27 -> 0 | N27: （西暦） | O27: **** | P27: 年 | Q27: ** | R27: 月 | S27: ** | T27: 日
B28: ='SMBCカップ参加申込書（沖縄ブロック大会）'!$B$28 -> 0 | H28: ='SMBCカップ参加申込書（沖縄ブロック大会）'!$H$28 -> 0
A30: 3 | B30: ='SMBCカップ参加申込書（沖縄ブロック大会）'!$B$30 -> 0 | H30: ='SMBCカップ参加申込書（沖縄ブロック大会）'!$H$30 -> 0 | L30: ='SMBCカップ参加申込書（沖縄ブロック大会）'!$L$30 -> 0 | M30: ='SMBCカップ参加申込書（沖縄ブロック大会）'!$M$30 -> 0 | N30: （西暦） | O30: **** | P30: 年 | Q30: ** | R30: 月 | S30: ** | T30: 日
B31: ='SMBCカップ参加申込書（沖縄ブロック大会）'!$B$31 -> 0 | H31: ='SMBCカップ参加申込書（沖縄ブロック大会）'!$H$31 -> 0
A33: 4 | B33: ='SMBCカップ参加申込書（沖縄ブロック大会）'!$B$33 -> 0 | H33: ='SMBCカップ参加申込書（沖縄ブロック大会）'!$H$33 -> 0 | L33: ='SMBCカップ参加申込書（沖縄ブロック大会）'!$L$33 -> 0 | M33: ='SMBCカップ参加申込書（沖縄ブロック大会）'!$M$33 -> 0 | N33: （西暦） | O33: **** | P33: 年 | Q33: ** | R33: 月 | S33: ** | T33: 日
B34: ='SMBCカップ参加申込書（沖縄ブロック大会）'!$B$34 -> 0 | H34: ='SMBCカップ参加申込書（沖縄ブロック大会）'!$H$34 -> 0
A36: 5 | B36: ='SMBCカップ参加申込書（沖縄ブロック大会）'!$B$36 -> 0 | H36: ='SMBCカップ参加申込書（沖縄ブロック大会）'!$H$36 -> 0 | L36: ='SMBCカップ参加申込書（沖縄ブロック大会）'!$L$36 -> 0 | M36: ='SMBCカップ参加申込書（沖縄ブロック大会）'!$M$36 -> 0 | N36: （西暦） | O36: **** | P36: 年 | Q36: ** | R36: 月 | S36: ** | T36: 日
B37: ='SMBCカップ参加申込書（沖縄ブロック大会）'!$B$37 -> 0 | H37: ='SMBCカップ参加申込書（沖縄ブロック大会）'!$H$37 -> 0
A39: 6 | B39: ='SMBCカップ参加申込書（沖縄ブロック大会）'!$B$39 -> 0 | H39: ='SMBCカップ参加申込書（沖縄ブロック大会）'!$H$39 -> 0 | L39: ='SMBCカップ参加申込書（沖縄ブロック大会）'!$L$39 -> 0 | M39: ='SMBCカップ参加申込書（沖縄ブロック大会）'!$M$39 -> 0 | N39: （西暦） | O39: **** | P39: 年 | Q39: ** | R39: 月 | S39: ** | T39: 日
B40: ='SMBCカップ参加申込書（沖縄ブロック大会）'!$B$40 -> 0 | H40: ='SMBCカップ参加申込書（沖縄ブロック大会）'!$H$40 -> 0
A42: 7 | B42: ='SMBCカップ参加申込書（沖縄ブロック大会）'!$B$42 -> 0 | H42: ='SMBCカップ参加申込書（沖縄ブロック大会）'!$H$42 -> 0 | L42: ='SMBCカップ参加申込書（沖縄ブロック大会）'!$L$42 -> 0 | M42: ='SMBCカップ参加申込書（沖縄ブロック大会）'!$M$42 -> 0 | N42: （西暦） | O42: **** | P42: 年 | Q42: ** | R42: 月 | S42: ** | T42: 日
B43: ='SMBCカップ参加申込書（沖縄ブロック大会）'!$B$43 -> 0 | H43: ='SMBCカップ参加申込書（沖縄ブロック大会）'!$H$43 -> 0
A45: 8 | B45: ='SMBCカップ参加申込書（沖縄ブロック大会）'!$B$45 -> 0 | H45: ='SMBCカップ参加申込書（沖縄ブロック大会）'!$H$45 -> 0 | L45: ='SMBCカップ参加申込書（沖縄ブロック大会）'!$L$45 -> 0 | M45: ='SMBCカップ参加申込書（沖縄ブロック大会）'!$M$45 -> 0 | N45: （西暦） | O45: **** | P45: 年 | Q45: ** | R45: 月 | S45: ** | T45: 日
B46: ='SMBCカップ参加申込書（沖縄ブロック大会）'!$B$46 -> 0 | H46: ='SMBCカップ参加申込書（沖縄ブロック大会）'!$H$46 -> 0
A48: 9 | B48: ='SMBCカップ参加申込書（沖縄ブロック大会）'!$B$48 -> 0 | H48: ='SMBCカップ参加申込書（沖縄ブロック大会）'!$H$48 -> 0 | L48: ='SMBCカップ参加申込書（沖縄ブロック大会）'!$L$48 -> 0 | M48: ='SMBCカップ参加申込書（沖縄ブロック大会）'!$M$48 -> 0 | N48: （西暦） | O48: **** | P48: 年 | Q48: ** | R48: 月 | S48: ** | T48: 日
B49: ='SMBCカップ参加申込書（沖縄ブロック大会）'!$B$49 -> 0 | H49: ='SMBCカップ参加申込書（沖縄ブロック大会）'!$H$49 -> 0
A51: 10 | B51: ='SMBCカップ参加申込書（沖縄ブロック大会）'!$B$51 -> 0 | H51: ='SMBCカップ参加申込書（沖縄ブロック大会）'!$H$51 -> 0 | L51: ='SMBCカップ参加申込書（沖縄ブロック大会）'!$L$51 -> 0 | M51: ='SMBCカップ参加申込書（沖縄ブロック大会）'!$M$51 -> 0 | N51: （西暦） | O51: **** | P51: 年 | Q51: ** | R51: 月 | S51: ** | T51: 日
B52: ='SMBCカップ参加申込書（沖縄ブロック大会）'!$B$52 -> 0 | H52: ='SMBCカップ参加申込書（沖縄ブロック大会）'!$H$52 -> 0
A55: 大会参加にあたりチーム責任者（帯同コーチのうちどちらか１人）として、大会規則を遵守し責任を持つことを誓います。
A57: ='SMBCカップ参加申込書（沖縄ブロック大会）'!$A$57 -> 2025 | C57: 年 | D57: ='SMBCカップ参加申込書（沖縄ブロック大会）'!$D$57 -> 11 | E57: 月 | F57: ='SMBCカップ参加申込書（沖縄ブロック大会）'!$F$57 -> 27 | G57: 日 | H57: 〆切 | I57: チーム責任者 | K57: ='SMBCカップ参加申込書（沖縄ブロック大会）'!$K$57 -> 0 | Q57: 印
A58: ='SMBCカップ参加申込書（沖縄ブロック大会）'!$A$58 -> ※ 押印した申込用紙は，「大会当日受付時」に提出を確実にお願い致します。
A59: 住所： | C59: 〒 | D59: *** | F59: － | G59: **** | I59: ***************
C60: ***********
A61: 電話番号： | C61: ***-****-****
A63: １．参加者は日本の学制による小学校４年生～６年生で人数は７人～１０人、男女及び学年の構成は問いません。
A64: ※参加最少人数は７名です。
A65: ２．お申し込みに際し、参加登録費（保険料を含む）が必要となります。
A66: ３．成人２名が帯同コーチとして引率し、必ず登録選手全員の保護者から参加の承諾を得てください。また、帯同コーチ２名の
A67: うち１名は大会参加における責任者として大会要項および大会規則等の遵守を誓約し、氏名を記入のうえ捺印してください。
A68: ４．大会出場選手の肖像権ならびにそれに付随するすべての権限は主催者にあるものとします。
A69: ※公式ウェッブサイト内の掲出や、次年度の大会ポスター・プログラム等に使用される可能性があります。
A70: ５．チーム名は最大で２０文字となります。小学校名、地域名などは略称表記でも構いません。
A71: 《 ご記入いただいた個人情報は今大会運営目的以外には使用しません。使用後は適切に廃棄させて頂きます。 》

Sheet Member List（記入不要）
A1: ='SMBCカップ参加申込書（沖縄ブロック大会）'!A1 -> SMBCカップ 第22回全国小学生タグラグビー選手権大会
A2: 沖縄県予選大会 メンバーリスト ※当日は必ず持参・提示をお願いします。
A4: 【 留 意 事 項 】
A5: 1 | B5: 後半開始までに登録メンバーを全員出場させること。
A6: 2 | B6: 選手交代の際には，必ず「AR（第3レフリー）」を通して行うこと。
A7: 3 | B7: AR（第3レフリー）は，本シートをしっかりと管理し，試合終了後はレフリーと確認をすること。
B9: チーム名 | D9: ='SMBCカップ参加申込書（沖縄ブロック大会）'!$L$7 -> 0 | J9: カテゴリー | L9: ='SMBCカップ参加申込書（沖縄ブロック大会）'!$H$10 -> 0
C11: 氏 名 | D11: 第1試合 | E11: 第2試合 | F11: 第3試合 | G11: 第4試合 | H11: 第5試合 | I11: 第6試合 | J11: 第7試合 | K11: 第8試合 | L11: 第9試合 | M11: 第10試合 | N11: 第11試合 | O11: 第12試合
B12: 1 | C12: ='SMBCカップ参加申込書（沖縄ブロック大会）'!$B$25 -> 0
B13: 2 | C13: ='SMBCカップ参加申込書（沖縄ブロック大会）'!$B$28 -> 0
B14: 3 | C14: ='SMBCカップ参加申込書（沖縄ブロック大会）'!$B$31 -> 0
B15: 4 | C15: ='SMBCカップ参加申込書（沖縄ブロック大会）'!$B$34 -> 0
B16: 5 | C16: ='SMBCカップ参加申込書（沖縄ブロック大会）'!$B$37 -> 0
B17: 6 | C17: ='SMBCカップ参加申込書（沖縄ブロック大会）'!$B$40 -> 0
B18: 7 | C18: ='SMBCカップ参加申込書（沖縄ブロック大会）'!$B$43 -> 0
B19: 8 | C19: ='SMBCカップ参加申込書（沖縄ブロック大会）'!$B$46 -> 0
B20: 9 | C20: ='SMBCカップ参加申込書（沖縄ブロック大会）'!$B$49 -> 0
B21: 10 | C21: ='SMBCカップ参加申込書（沖縄ブロック大会）'!$B$52 -> 0
B22: 確認サイン | D22: ※ ゲーム終了後，レフリー・アシスタントレフリーで確認後，サインをして下さい。
B23: レフリー
B24: アシスタントレフリー
